BEGIN:VCALENDAR
VERSION:2.0
PRODID:icalendar-ruby
CALSCALE:GREGORIAN
METHOD:PUBLISH
BEGIN:VEVENT
DTSTAMP:20260425T131420Z
UID:14-1926455@shelbyvilleupc.com
DTSTART:20261101T160000Z
DTEND:20261101T164500Z
CLASS:PUBLIC
CREATED:20260425T063653
DESCRIPTION:
LAST-MODIFIED:20260425T063653
LOCATION:
SUMMARY:Sunday School
URL;VALUE=URI:https://www.shelbyvilleupc.com/events/sunday-school/2026-11-0
 1
END:VEVENT
END:VCALENDAR
