BEGIN:VCALENDAR
VERSION:2.0
PRODID:icalendar-ruby
CALSCALE:GREGORIAN
METHOD:PUBLISH
BEGIN:VEVENT
DTSTAMP:20260423T095913Z
UID:14-1912580@shelbyvilleupc.com
DTSTART:20261004T150000Z
DTEND:20261004T154500Z
CLASS:PUBLIC
CREATED:20260422T211516
DESCRIPTION:
LAST-MODIFIED:20260422T211516
LOCATION:
SUMMARY:Sunday School
URL;VALUE=URI:https://www.shelbyvilleupc.com/events/sunday-school/2026-10-0
 4
END:VEVENT
END:VCALENDAR
