BEGIN:VCALENDAR
VERSION:2.0
PRODID:icalendar-ruby
CALSCALE:GREGORIAN
METHOD:PUBLISH
BEGIN:VEVENT
DTSTAMP:20260421T002033Z
UID:14-1898724@shelbyvilleupc.com
DTSTART:20260920T150000Z
DTEND:20260920T154500Z
CLASS:PUBLIC
CREATED:20260420T165217
DESCRIPTION:
LAST-MODIFIED:20260420T165217
LOCATION:
SUMMARY:Sunday School
URL;VALUE=URI:https://www.shelbyvilleupc.com/events/sunday-school/2026-09-2
 0
END:VEVENT
END:VCALENDAR
