BEGIN:VCALENDAR
VERSION:2.0
PRODID:icalendar-ruby
CALSCALE:GREGORIAN
METHOD:PUBLISH
BEGIN:VEVENT
DTSTAMP:20260422T153241Z
UID:80-1908414@shelbyvilleupc.com
DTSTART:20261029T000000Z
DTEND:20261029T020000Z
CLASS:PUBLIC
CREATED:20260422T093913
DESCRIPTION:
LAST-MODIFIED:20260422T093913
LOCATION:
SUMMARY:Midweek Service
URL;VALUE=URI:https://www.shelbyvilleupc.com/events/midweek-service/2026-10
 -28
END:VEVENT
END:VCALENDAR
