BEGIN:VCALENDAR
VERSION:2.0
PRODID:icalendar-ruby
CALSCALE:GREGORIAN
METHOD:PUBLISH
BEGIN:VEVENT
DTSTAMP:20260422T120247Z
UID:80-1907346@shelbyvilleupc.com
DTSTART:20261015T000000Z
DTEND:20261015T020000Z
CLASS:PUBLIC
CREATED:20260422T064418
DESCRIPTION:
LAST-MODIFIED:20260422T064418
LOCATION:
SUMMARY:Midweek Service
URL;VALUE=URI:https://www.shelbyvilleupc.com/events/midweek-service/2026-10
 -14
END:VEVENT
END:VCALENDAR
