BEGIN:VCALENDAR
VERSION:2.0
PRODID:icalendar-ruby
CALSCALE:GREGORIAN
METHOD:PUBLISH
BEGIN:VEVENT
DTSTAMP:20260420T100722Z
UID:80-1893495@shelbyvilleupc.com
DTSTART:20261001T000000Z
DTEND:20261001T020000Z
CLASS:PUBLIC
CREATED:20260420T013626
DESCRIPTION:
LAST-MODIFIED:20260420T013626
LOCATION:
SUMMARY:Midweek Service
URL;VALUE=URI:https://www.shelbyvilleupc.com/events/midweek-service/2026-09
 -30
END:VEVENT
END:VCALENDAR
