BEGIN:VCALENDAR
VERSION:2.0
PRODID:icalendar-ruby
CALSCALE:GREGORIAN
METHOD:PUBLISH
BEGIN:VEVENT
DTSTAMP:20260422T084541Z
UID:80-1906277@shelbyvilleupc.com
DTSTART:20260924T000000Z
DTEND:20260924T020000Z
CLASS:PUBLIC
CREATED:20260421T194115
DESCRIPTION:
LAST-MODIFIED:20260421T194115
LOCATION:
SUMMARY:Midweek Service
URL;VALUE=URI:https://www.shelbyvilleupc.com/events/midweek-service/2026-09
 -23
END:VEVENT
END:VCALENDAR
