BEGIN:VCALENDAR
VERSION:2.0
PRODID:icalendar-ruby
CALSCALE:GREGORIAN
METHOD:PUBLISH
BEGIN:VEVENT
DTSTAMP:20260420T070257Z
UID:80-1893493@shelbyvilleupc.com
DTSTART:20260917T000000Z
DTEND:20260917T020000Z
CLASS:PUBLIC
CREATED:20260420T013626
DESCRIPTION:
LAST-MODIFIED:20260420T013626
LOCATION:
SUMMARY:Midweek Service
URL;VALUE=URI:https://www.shelbyvilleupc.com/events/midweek-service/2026-09
 -16
END:VEVENT
END:VCALENDAR
