BEGIN:VCALENDAR
VERSION:2.0
PRODID:icalendar-ruby
CALSCALE:GREGORIAN
METHOD:PUBLISH
BEGIN:VEVENT
DTSTAMP:20260420T033448Z
UID:80-1892426@shelbyvilleupc.com
DTSTART:20260903T000000Z
DTEND:20260903T020000Z
CLASS:PUBLIC
CREATED:20260419T215932
DESCRIPTION:
LAST-MODIFIED:20260419T215932
LOCATION:
SUMMARY:Midweek Service
URL;VALUE=URI:https://www.shelbyvilleupc.com/events/midweek-service/2026-09
 -02
END:VEVENT
END:VCALENDAR
