BEGIN:VCALENDAR
VERSION:2.0
PRODID:icalendar-ruby
CALSCALE:GREGORIAN
METHOD:PUBLISH
BEGIN:VEVENT
DTSTAMP:20260420T015515Z
UID:80-1891360@shelbyvilleupc.com
DTSTART:20260827T000000Z
DTEND:20260827T020000Z
CLASS:PUBLIC
CREATED:20260419T182052
DESCRIPTION:
LAST-MODIFIED:20260419T182052
LOCATION:
SUMMARY:Midweek Service
URL;VALUE=URI:https://www.shelbyvilleupc.com/events/midweek-service/2026-08
 -26
END:VEVENT
END:VCALENDAR
