BEGIN:VCALENDAR
VERSION:2.0
PRODID:icalendar-ruby
CALSCALE:GREGORIAN
METHOD:PUBLISH
BEGIN:VEVENT
DTSTAMP:20260425T133440Z
UID:10-1926072@shelbyvilleupc.com
DTSTART:20261103T170000Z
DTEND:20261103T180000Z
CLASS:PUBLIC
CREATED:20260425T063652
DESCRIPTION:
LAST-MODIFIED:20260425T063652
LOCATION:
SUMMARY:Ladies Prayer
URL;VALUE=URI:https://www.shelbyvilleupc.com/events/ladies-prayer/2026-11-0
 3
END:VEVENT
END:VCALENDAR
