BEGIN:VCALENDAR
VERSION:2.0
PRODID:icalendar-ruby
CALSCALE:GREGORIAN
METHOD:PUBLISH
BEGIN:VEVENT
DTSTAMP:20260425T115809Z
UID:10-1926071@shelbyvilleupc.com
DTSTART:20261027T160000Z
DTEND:20261027T170000Z
CLASS:PUBLIC
CREATED:20260425T063652
DESCRIPTION:
LAST-MODIFIED:20260425T063652
LOCATION:
SUMMARY:Ladies Prayer
URL;VALUE=URI:https://www.shelbyvilleupc.com/events/ladies-prayer/2026-10-2
 7
END:VEVENT
END:VCALENDAR
