BEGIN:VCALENDAR
VERSION:2.0
PRODID:icalendar-ruby
CALSCALE:GREGORIAN
METHOD:PUBLISH
BEGIN:VEVENT
DTSTAMP:20260425T102617Z
UID:10-1925003@shelbyvilleupc.com
DTSTART:20261020T160000Z
DTEND:20261020T170000Z
CLASS:PUBLIC
CREATED:20260424T205023
DESCRIPTION:
LAST-MODIFIED:20260424T205023
LOCATION:
SUMMARY:Ladies Prayer
URL;VALUE=URI:https://www.shelbyvilleupc.com/events/ladies-prayer/2026-10-2
 0
END:VEVENT
END:VCALENDAR
