BEGIN:VCALENDAR
VERSION:2.0
PRODID:icalendar-ruby
CALSCALE:GREGORIAN
METHOD:PUBLISH
BEGIN:VEVENT
DTSTAMP:20260423T101112Z
UID:10-1912197@shelbyvilleupc.com
DTSTART:20261006T160000Z
DTEND:20261006T170000Z
CLASS:PUBLIC
CREATED:20260422T211515
DESCRIPTION:
LAST-MODIFIED:20260422T211515
LOCATION:
SUMMARY:Ladies Prayer
URL;VALUE=URI:https://www.shelbyvilleupc.com/events/ladies-prayer/2026-10-0
 6
END:VEVENT
END:VCALENDAR
