BEGIN:VCALENDAR
VERSION:2.0
PRODID:icalendar-ruby
CALSCALE:GREGORIAN
METHOD:PUBLISH
BEGIN:VEVENT
DTSTAMP:20260420T234216Z
UID:10-1898342@shelbyvilleupc.com
DTSTART:20260922T160000Z
DTEND:20260922T170000Z
CLASS:PUBLIC
CREATED:20260420T165216
DESCRIPTION:
LAST-MODIFIED:20260420T165216
LOCATION:
SUMMARY:Ladies Prayer
URL;VALUE=URI:https://www.shelbyvilleupc.com/events/ladies-prayer/2026-09-2
 2
END:VEVENT
END:VCALENDAR
